BEGIN:VCALENDAR
VERSION:2.0
PRODID:-// - ECPv6.15.20//NONSGML v1.0//EN
CALSCALE:GREGORIAN
METHOD:PUBLISH
X-ORIGINAL-URL:https://pacelabdc.org
X-WR-CALDESC:Events for 
REFRESH-INTERVAL;VALUE=DURATION:PT1H
X-Robots-Tag:noindex
X-PUBLISHED-TTL:PT1H
BEGIN:VTIMEZONE
TZID:America/Los_Angeles
BEGIN:DAYLIGHT
TZOFFSETFROM:-0800
TZOFFSETTO:-0700
TZNAME:PDT
DTSTART:20250309T100000
END:DAYLIGHT
BEGIN:STANDARD
TZOFFSETFROM:-0700
TZOFFSETTO:-0800
TZNAME:PST
DTSTART:20251102T090000
END:STANDARD
BEGIN:DAYLIGHT
TZOFFSETFROM:-0800
TZOFFSETTO:-0700
TZNAME:PDT
DTSTART:20260308T100000
END:DAYLIGHT
BEGIN:STANDARD
TZOFFSETFROM:-0700
TZOFFSETTO:-0800
TZNAME:PST
DTSTART:20261101T090000
END:STANDARD
BEGIN:DAYLIGHT
TZOFFSETFROM:-0800
TZOFFSETTO:-0700
TZNAME:PDT
DTSTART:20270314T100000
END:DAYLIGHT
BEGIN:STANDARD
TZOFFSETFROM:-0700
TZOFFSETTO:-0800
TZNAME:PST
DTSTART:20271107T090000
END:STANDARD
END:VTIMEZONE
BEGIN:VEVENT
DTSTART;TZID=America/Los_Angeles:20260324T110000
DTEND;TZID=America/Los_Angeles:20260324T140000
DTSTAMP:20260422T005752
CREATED:20260310T164440Z
LAST-MODIFIED:20260310T164909Z
UID:10001350-1774350000-1774360800@pacelabdc.org
SUMMARY:LACCD & ELAC Sisterhood Expo: A Vibrant Marketplace Celebrating Women's Entrepreneurship
DESCRIPTION:LACCD ELAC Sisterhood Expo 2026 attendee vendor flyer\n  \nWe invite you to come out and support local women entrepreneurs at the Sisterhood EXPO on Tuesday\, March 24\, 2025\, from 11:00 a.m. – 2:00 p.m. at East Los Angeles College! This free event will feature a marketplace of unique products\, art\, music\, books\, and more\, all created by amazing women business owners. It’s the perfect opportunity to discover new brands\, enjoy insightful workshops\, and connect with the local community. Don’t miss out on this celebration of women in business! \nVendor Registration \nEvent Registration
URL:https://pacelabdc.org/event/laccd-elac-sisterhood-expo-a-vibrant-marketplace-celebrating-womens-entrepreneurship/
LOCATION:East Los Angeles College\, E3/E7 Quad\, 1301 Avenida Cesar Chavez\, Monterey Park\, CA\, 91754\, United States
CATEGORIES:Community Events
END:VEVENT
END:VCALENDAR