BEGIN:VCALENDAR
VERSION:2.0
PRODID:-// - ECPv6.15.20//NONSGML v1.0//EN
CALSCALE:GREGORIAN
METHOD:PUBLISH
X-ORIGINAL-URL:https://pacelabdc.org
X-WR-CALDESC:Events for 
REFRESH-INTERVAL;VALUE=DURATION:PT1H
X-Robots-Tag:noindex
X-PUBLISHED-TTL:PT1H
BEGIN:VTIMEZONE
TZID:America/Los_Angeles
BEGIN:DAYLIGHT
TZOFFSETFROM:-0800
TZOFFSETTO:-0700
TZNAME:PDT
DTSTART:20250309T100000
END:DAYLIGHT
BEGIN:STANDARD
TZOFFSETFROM:-0700
TZOFFSETTO:-0800
TZNAME:PST
DTSTART:20251102T090000
END:STANDARD
BEGIN:DAYLIGHT
TZOFFSETFROM:-0800
TZOFFSETTO:-0700
TZNAME:PDT
DTSTART:20260308T100000
END:DAYLIGHT
BEGIN:STANDARD
TZOFFSETFROM:-0700
TZOFFSETTO:-0800
TZNAME:PST
DTSTART:20261101T090000
END:STANDARD
BEGIN:DAYLIGHT
TZOFFSETFROM:-0800
TZOFFSETTO:-0700
TZNAME:PDT
DTSTART:20270314T100000
END:DAYLIGHT
BEGIN:STANDARD
TZOFFSETFROM:-0700
TZOFFSETTO:-0800
TZNAME:PST
DTSTART:20271107T090000
END:STANDARD
END:VTIMEZONE
BEGIN:VEVENT
DTSTART;TZID=America/Los_Angeles:20260422T110000
DTEND;TZID=America/Los_Angeles:20260422T120000
DTSTAMP:20260421T185617
CREATED:20260203T192644Z
LAST-MODIFIED:20260302T181935Z
UID:10001271-1776855600-1776859200@pacelabdc.org
SUMMARY:Small Business Legal Essentials Webinar Series
DESCRIPTION:Stay compliant\, protect your business\, and make informed decisions with this practical legal webinar series designed specifically for small business owners\, entrepreneurs\, and startups. \nUpcoming Sessions: \n\nMarch 25 | 11:00 AM Commercial Leasing – Understand commercial lease terms\, negotiations\, common pitfalls\, and how to protect your business before signing a lease.\nApril 22 | 11:00 AM Contracts – Discover the key elements of strong contracts\, common mistakes to avoid\, and how to protect your business relationships and revenue.\nMay 27 | 11:00 AM Intellectual Property (IP) – Learn how to protect your brand\, ideas\, trademarks\, copyrights\, and creative assets from infringement.\n\n*The Zoom webinar link will be sent with reminder emails before the event. \n*Brought to you with the City of Los Angeles Economic and Workforce Development Department (EWDD) and BusinessSource Hollywood Region (operated by PACE Business Development Center).
URL:https://pacelabdc.org/event/small-business-legal-essentials-webinar-series/2026-04-22/
CATEGORIES:Workshops
END:VEVENT
BEGIN:VEVENT
DTSTART;TZID=America/Los_Angeles:20260527T110000
DTEND;TZID=America/Los_Angeles:20260527T120000
DTSTAMP:20260421T185617
CREATED:20260203T192644Z
LAST-MODIFIED:20260302T181935Z
UID:10001272-1779879600-1779883200@pacelabdc.org
SUMMARY:Small Business Legal Essentials Webinar Series
DESCRIPTION:Stay compliant\, protect your business\, and make informed decisions with this practical legal webinar series designed specifically for small business owners\, entrepreneurs\, and startups. \nUpcoming Sessions: \n\nMarch 25 | 11:00 AM Commercial Leasing – Understand commercial lease terms\, negotiations\, common pitfalls\, and how to protect your business before signing a lease.\nApril 22 | 11:00 AM Contracts – Discover the key elements of strong contracts\, common mistakes to avoid\, and how to protect your business relationships and revenue.\nMay 27 | 11:00 AM Intellectual Property (IP) – Learn how to protect your brand\, ideas\, trademarks\, copyrights\, and creative assets from infringement.\n\n*The Zoom webinar link will be sent with reminder emails before the event. \n*Brought to you with the City of Los Angeles Economic and Workforce Development Department (EWDD) and BusinessSource Hollywood Region (operated by PACE Business Development Center).
URL:https://pacelabdc.org/event/small-business-legal-essentials-webinar-series/2026-05-27/
CATEGORIES:Workshops
END:VEVENT
END:VCALENDAR