BEGIN:VCALENDAR
VERSION:2.0
PRODID:-// - ECPv6.15.20//NONSGML v1.0//EN
CALSCALE:GREGORIAN
METHOD:PUBLISH
X-ORIGINAL-URL:https://pacelabdc.org
X-WR-CALDESC:Events for 
REFRESH-INTERVAL;VALUE=DURATION:PT1H
X-Robots-Tag:noindex
X-PUBLISHED-TTL:PT1H
BEGIN:VTIMEZONE
TZID:America/Los_Angeles
BEGIN:DAYLIGHT
TZOFFSETFROM:-0800
TZOFFSETTO:-0700
TZNAME:PDT
DTSTART:20240310T100000
END:DAYLIGHT
BEGIN:STANDARD
TZOFFSETFROM:-0700
TZOFFSETTO:-0800
TZNAME:PST
DTSTART:20241103T090000
END:STANDARD
BEGIN:DAYLIGHT
TZOFFSETFROM:-0800
TZOFFSETTO:-0700
TZNAME:PDT
DTSTART:20250309T100000
END:DAYLIGHT
BEGIN:STANDARD
TZOFFSETFROM:-0700
TZOFFSETTO:-0800
TZNAME:PST
DTSTART:20251102T090000
END:STANDARD
BEGIN:DAYLIGHT
TZOFFSETFROM:-0800
TZOFFSETTO:-0700
TZNAME:PDT
DTSTART:20260308T100000
END:DAYLIGHT
BEGIN:STANDARD
TZOFFSETFROM:-0700
TZOFFSETTO:-0800
TZNAME:PST
DTSTART:20261101T090000
END:STANDARD
END:VTIMEZONE
BEGIN:VEVENT
DTSTART;TZID=America/Los_Angeles:20251209T100000
DTEND;TZID=America/Los_Angeles:20251209T110000
DTSTAMP:20260422T023647
CREATED:20251105T173421Z
LAST-MODIFIED:20251110T190215Z
UID:10001066-1765274400-1765278000@pacelabdc.org
SUMMARY:Financial Bootcamp for Small Business Owners Series
DESCRIPTION:MoneySmart Business Solutions by Lorna Whiteaker. Join us for this 4-part webinar series on business financials: \n\nDec 09\, 2025 – The ABCs of Bookkeeping and Accounting – It’s like learning to ride a bike. Once you know how you’re going to love it! Terminology and accounting basics so you can easily run and grow your business.\nDec 11\, 2025 – ABCs of Financial Statements Continued – No one was born knowing this stuff and it is all stuff you need to know. When you know your numbers\, you can run and grow your business with confidence.\nJan 13\, 2026 – Budgeting & Cash Flow Management Made Easy – Managing cash flow doesn’t have to be stressful or complicated. When you manage your spending\, you’ll start to see possibilities instead of limits.\nJan 15\, 2026 – Forecasting & Planning for Growth – Growth doesn’t happen by accident. Strategic planning allows you to align your time\, money and energy with what’s important to you!
URL:https://pacelabdc.org/event/financial-bootcamp-for-small-business-owners-series/2025-12-09/
LOCATION:CA
CATEGORIES:Workshops
END:VEVENT
END:VCALENDAR