BEGIN:VCALENDAR
VERSION:2.0
PRODID:-// - ECPv6.15.20//NONSGML v1.0//EN
CALSCALE:GREGORIAN
METHOD:PUBLISH
X-ORIGINAL-URL:https://pacelabdc.org
X-WR-CALDESC:Events for 
REFRESH-INTERVAL;VALUE=DURATION:PT1H
X-Robots-Tag:noindex
X-PUBLISHED-TTL:PT1H
BEGIN:VTIMEZONE
TZID:America/Los_Angeles
BEGIN:DAYLIGHT
TZOFFSETFROM:-0800
TZOFFSETTO:-0700
TZNAME:PDT
DTSTART:20240310T100000
END:DAYLIGHT
BEGIN:STANDARD
TZOFFSETFROM:-0700
TZOFFSETTO:-0800
TZNAME:PST
DTSTART:20241103T090000
END:STANDARD
BEGIN:DAYLIGHT
TZOFFSETFROM:-0800
TZOFFSETTO:-0700
TZNAME:PDT
DTSTART:20250309T100000
END:DAYLIGHT
BEGIN:STANDARD
TZOFFSETFROM:-0700
TZOFFSETTO:-0800
TZNAME:PST
DTSTART:20251102T090000
END:STANDARD
BEGIN:DAYLIGHT
TZOFFSETFROM:-0800
TZOFFSETTO:-0700
TZNAME:PDT
DTSTART:20260308T100000
END:DAYLIGHT
BEGIN:STANDARD
TZOFFSETFROM:-0700
TZOFFSETTO:-0800
TZNAME:PST
DTSTART:20261101T090000
END:STANDARD
END:VTIMEZONE
BEGIN:VEVENT
DTSTART;TZID=America/Los_Angeles:20250701T110000
DTEND;TZID=America/Los_Angeles:20250701T120000
DTSTAMP:20260422T085511
CREATED:20250604T171315Z
LAST-MODIFIED:20250604T171315Z
UID:10000716-1751367600-1751371200@pacelabdc.org
SUMMARY:Procurement Masterclass: Comprehensive Guide to Working with OCPA
DESCRIPTION:Introduction to Procurement (OCPA)
URL:https://pacelabdc.org/event/procurement-masterclass-comprehensive-guide-to-working-with-ocpa/
LOCATION:CA
CATEGORIES:Workshops
END:VEVENT
BEGIN:VEVENT
DTSTART;TZID=America/Los_Angeles:20250708T110000
DTEND;TZID=America/Los_Angeles:20250708T120000
DTSTAMP:20260422T085511
CREATED:20250604T171411Z
LAST-MODIFIED:20250604T171411Z
UID:10000717-1751972400-1751976000@pacelabdc.org
SUMMARY:Procurement Masterclass: Comprehensive Guide to Working with OCPA
DESCRIPTION:Creating Capability Statements (PACE)
URL:https://pacelabdc.org/event/procurement-masterclass-comprehensive-guide-to-working-with-ocpa-2/
LOCATION:CA
CATEGORIES:Workshops
END:VEVENT
BEGIN:VEVENT
DTSTART;TZID=America/Los_Angeles:20250710T120000
DTEND;TZID=America/Los_Angeles:20250710T130000
DTSTAMP:20260422T085511
CREATED:20250703T162733Z
LAST-MODIFIED:20250703T162733Z
UID:10000755-1752148800-1752152400@pacelabdc.org
SUMMARY:Know Your Rights as a Small Business Owner
DESCRIPTION:Learn your rights as an immigrant business owner\nPrepare for immigration enforcement encounters: what to do and say\nLearn how to protect your employees and customers and what their rights are during immigration enforcement encounters
URL:https://pacelabdc.org/event/know-your-rights-as-a-small-business-owner/
LOCATION:CA
CATEGORIES:Workshops
END:VEVENT
BEGIN:VEVENT
DTSTART;TZID=America/Los_Angeles:20250710T130000
DTEND;TZID=America/Los_Angeles:20250710T143000
DTSTAMP:20260422T085511
CREATED:20250626T210553Z
LAST-MODIFIED:20250626T210553Z
UID:10000747-1752152400-1752157800@pacelabdc.org
SUMMARY:Level Up for LA28: A Procurement Guide for Small & Diverse Businesses
DESCRIPTION:
URL:https://pacelabdc.org/event/level-up-for-la28-a-procurement-guide-for-small-diverse-businesses/
LOCATION:CA
CATEGORIES:Workshops
END:VEVENT
BEGIN:VEVENT
DTSTART;TZID=America/Los_Angeles:20250715T110000
DTEND;TZID=America/Los_Angeles:20250715T120000
DTSTAMP:20260422T085511
CREATED:20250604T171456Z
LAST-MODIFIED:20250604T171456Z
UID:10000718-1752577200-1752580800@pacelabdc.org
SUMMARY:Procurement Masterclass: Comprehensive Guide to Working with OCPA
DESCRIPTION:Introduction to Certifications (PACE)
URL:https://pacelabdc.org/event/procurement-masterclass-comprehensive-guide-to-working-with-ocpa-3/
LOCATION:CA
CATEGORIES:Workshops
END:VEVENT
BEGIN:VEVENT
DTSTART;TZID=America/Los_Angeles:20250715T130000
DTEND;TZID=America/Los_Angeles:20250715T143000
DTSTAMP:20260422T085511
CREATED:20250213T224319Z
LAST-MODIFIED:20250213T224319Z
UID:10000439-1752584400-1752589800@pacelabdc.org
SUMMARY:Available Grants for Business Owners
DESCRIPTION:Discover the world of business grants and elevate your business growth in our monthly workshop! Every month\, we will delve into the diverse landscape of grants available for businessowners\, ranging from government to private and non-profit options. We will provide a continuous monthly update on grants and their deadlines. \nEach month\, we will also have a special guest who will talk about a specific funding/business topic. Gain insights into the application process\, explore success stories\, and learn best practices for creating actionable strategies. Lastly\, connect with fellow participants and broaden your network!
URL:https://pacelabdc.org/event/available-grants-for-business-owners-13/
LOCATION:CA
CATEGORIES:Workshops
END:VEVENT
BEGIN:VEVENT
DTSTART;TZID=America/Los_Angeles:20250715T150000
DTEND;TZID=America/Los_Angeles:20250715T160000
DTSTAMP:20260422T085511
CREATED:20250703T162851Z
LAST-MODIFIED:20250703T162851Z
UID:10000756-1752591600-1752595200@pacelabdc.org
SUMMARY:Know Your Rights as a Small Business Owner
DESCRIPTION:Learn your rights as an immigrant business owner\nPrepare for immigration enforcement encounters: what to do and say\nLearn how to protect your employees and customers and what their rights are during immigration enforcement encounters
URL:https://pacelabdc.org/event/know-your-rights-as-a-small-business-owner-2/
LOCATION:CA
CATEGORIES:Workshops
END:VEVENT
BEGIN:VEVENT
DTSTART;TZID=America/Los_Angeles:20250717T110000
DTEND;TZID=America/Los_Angeles:20250717T120000
DTSTAMP:20260422T085511
CREATED:20250402T215715Z
LAST-MODIFIED:20250402T215715Z
UID:10000580-1752750000-1752753600@pacelabdc.org
SUMMARY:Digital Marketing for Women-Owned Businesses
DESCRIPTION:How to Grow Your Subscriber Base
URL:https://pacelabdc.org/event/digital-marketing-for-women-owned-businesses-4/
LOCATION:CA
CATEGORIES:Workshops
END:VEVENT
BEGIN:VEVENT
DTSTART;TZID=America/Los_Angeles:20250717T130000
DTEND;TZID=America/Los_Angeles:20250717T143000
DTSTAMP:20260422T085511
CREATED:20250626T210654Z
LAST-MODIFIED:20250626T210654Z
UID:10000748-1752757200-1752762600@pacelabdc.org
SUMMARY:Crafting a Capability Statement That Opens Doors for Procurement Opportunities
DESCRIPTION:
URL:https://pacelabdc.org/event/crafting-a-capability-statement-that-opens-doors-for-procurement-opportunities/
LOCATION:CA
CATEGORIES:Workshops
END:VEVENT
BEGIN:VEVENT
DTSTART;TZID=America/Los_Angeles:20250722T110000
DTEND;TZID=America/Los_Angeles:20250722T120000
DTSTAMP:20260422T085511
CREATED:20250604T171533Z
LAST-MODIFIED:20250604T171533Z
UID:10000719-1753182000-1753185600@pacelabdc.org
SUMMARY:Procurement Masterclass: Comprehensive Guide to Working with OCPA
DESCRIPTION:Working on Bid Proposals (PACE)
URL:https://pacelabdc.org/event/procurement-masterclass-comprehensive-guide-to-working-with-ocpa-4/
LOCATION:CA
CATEGORIES:Workshops
END:VEVENT
BEGIN:VEVENT
DTSTART;TZID=America/Los_Angeles:20250729T120000
DTEND;TZID=America/Los_Angeles:20250729T120000
DTSTAMP:20260422T085511
CREATED:20250717T170201Z
LAST-MODIFIED:20250717T170318Z
UID:10000787-1753790400-1753790400@pacelabdc.org
SUMMARY:From Manager to Leader: Building Trust\, Communication\, and Impact
DESCRIPTION:Discover the most common pitfalls leaders face—and how to rise above them. This session explores how to create a culture of trust and accountability\, use practical frameworks to strengthen communication and decision-making\, and adopt the key mindset shifts that elevate leadership from good to great. Whether you’re leading a small team or a growing organization\, you’ll walk away with actionable insights to lead with clarity\, confidence\, and purpose. In this session you will learn: \n✅ The 3 biggest mistakes leaders make—and how to avoid them \n✅ How to create a culture of trust and accountability in your team \n✅ Practical frameworks to improve communication and decision-making \n✅ The mindset shifts that turn good managers into great leaders
URL:https://pacelabdc.org/event/from-manager-to-leader-building-trust-communication-and-impact/
LOCATION:CA
CATEGORIES:Workshops
END:VEVENT
BEGIN:VEVENT
DTSTART;TZID=America/Los_Angeles:20250730T100000
DTEND;TZID=America/Los_Angeles:20250730T110000
DTSTAMP:20260422T085511
CREATED:20250716T155329Z
LAST-MODIFIED:20250716T155348Z
UID:10000777-1753869600-1753873200@pacelabdc.org
SUMMARY:Supercharge Your Business with Google
DESCRIPTION:Grow Your Business with AI Tools Powered by Google: AI basics and how Google’s AI tools can help small businesses
URL:https://pacelabdc.org/event/supercharge-your-business-with-google/
LOCATION:CA
CATEGORIES:Workshops
END:VEVENT
END:VCALENDAR