BEGIN:VCALENDAR
VERSION:2.0
PRODID:-// - ECPv6.15.20//NONSGML v1.0//EN
CALSCALE:GREGORIAN
METHOD:PUBLISH
X-ORIGINAL-URL:https://pacelabdc.org
X-WR-CALDESC:Events for 
REFRESH-INTERVAL;VALUE=DURATION:PT1H
X-Robots-Tag:noindex
X-PUBLISHED-TTL:PT1H
BEGIN:VTIMEZONE
TZID:America/Los_Angeles
BEGIN:DAYLIGHT
TZOFFSETFROM:-0800
TZOFFSETTO:-0700
TZNAME:PDT
DTSTART:20240310T100000
END:DAYLIGHT
BEGIN:STANDARD
TZOFFSETFROM:-0700
TZOFFSETTO:-0800
TZNAME:PST
DTSTART:20241103T090000
END:STANDARD
BEGIN:DAYLIGHT
TZOFFSETFROM:-0800
TZOFFSETTO:-0700
TZNAME:PDT
DTSTART:20250309T100000
END:DAYLIGHT
BEGIN:STANDARD
TZOFFSETFROM:-0700
TZOFFSETTO:-0800
TZNAME:PST
DTSTART:20251102T090000
END:STANDARD
BEGIN:DAYLIGHT
TZOFFSETFROM:-0800
TZOFFSETTO:-0700
TZNAME:PDT
DTSTART:20260308T100000
END:DAYLIGHT
BEGIN:STANDARD
TZOFFSETFROM:-0700
TZOFFSETTO:-0800
TZNAME:PST
DTSTART:20261101T090000
END:STANDARD
END:VTIMEZONE
BEGIN:VEVENT
DTSTART;TZID=America/Los_Angeles:20250605T090000
DTEND;TZID=America/Los_Angeles:20250605T100000
DTSTAMP:20260422T102438
CREATED:20250409T214715Z
LAST-MODIFIED:20250409T214715Z
UID:10000611-1749114000-1749117600@pacelabdc.org
SUMMARY:Part 3: Recovery and Rebuilding Planning After the Fires
DESCRIPTION:Part 3.2: Thursdays\, June 5\, 12\, 19\, 26 at 9:00 AM
URL:https://pacelabdc.org/event/part-3-recovery-and-rebuilding-planning-after-the-fires-6/
LOCATION:CA
CATEGORIES:Workshops
END:VEVENT
BEGIN:VEVENT
DTSTART;TZID=America/Los_Angeles:20250607T093000
DTEND;TZID=America/Los_Angeles:20250607T150000
DTSTAMP:20260422T102438
CREATED:20250218T211135Z
LAST-MODIFIED:20250326T225856Z
UID:10000458-1749288600-1749308400@pacelabdc.org
SUMMARY:2025 SEASON I Entrepreneur Training Program (by PACE WBC)-10 Sessions
DESCRIPTION:The Entrepreneur Training Program (ETP) is a 24-hour business start-up course for entrepreneurs that want to start a new business.
URL:https://pacelabdc.org/event/2025-season-i-entrepreneur-training-program-by-pace-wbc-10-sessions-10/
LOCATION:CA
CATEGORIES:Workshops
END:VEVENT
BEGIN:VEVENT
DTSTART;TZID=America/Los_Angeles:20250611T110000
DTEND;TZID=America/Los_Angeles:20250611T130000
DTSTAMP:20260422T102438
CREATED:20250509T180358Z
LAST-MODIFIED:20250509T180358Z
UID:10000670-1749639600-1749646800@pacelabdc.org
SUMMARY:"Meet Our Procurement Experts" Webinar Series
DESCRIPTION:Professional Services Contract Session
URL:https://pacelabdc.org/event/meet-our-procurement-experts-webinar-series/
LOCATION:CA
CATEGORIES:Workshops
END:VEVENT
BEGIN:VEVENT
DTSTART;TZID=America/Los_Angeles:20250612T090000
DTEND;TZID=America/Los_Angeles:20250612T100000
DTSTAMP:20260422T102438
CREATED:20250409T214835Z
LAST-MODIFIED:20250409T214835Z
UID:10000613-1749718800-1749722400@pacelabdc.org
SUMMARY:Part 3: Recovery and Rebuilding Planning After the Fires
DESCRIPTION:Part 3.2: Thursdays\, June 5\, 12\, 19\, 26 at 9:00 AM
URL:https://pacelabdc.org/event/part-3-recovery-and-rebuilding-planning-after-the-fires-8/
LOCATION:CA
CATEGORIES:Workshops
END:VEVENT
BEGIN:VEVENT
DTSTART;TZID=America/Los_Angeles:20250612T130000
DTEND;TZID=America/Los_Angeles:20250612T140000
DTSTAMP:20260422T102438
CREATED:20241223T192018Z
LAST-MODIFIED:20241223T192039Z
UID:10000353-1749733200-1749736800@pacelabdc.org
SUMMARY:Digital Marketing Webinar Series
DESCRIPTION:E-Mail Marketing for Business
URL:https://pacelabdc.org/event/digital-marketing-webinar-series-6/
LOCATION:CA
CATEGORIES:Workshops
END:VEVENT
BEGIN:VEVENT
DTSTART;TZID=America/Los_Angeles:20250617T130000
DTEND;TZID=America/Los_Angeles:20250617T140000
DTSTAMP:20260422T102438
CREATED:20250225T221030Z
LAST-MODIFIED:20250225T221030Z
UID:10000493-1750165200-1750168800@pacelabdc.org
SUMMARY:Bet Tzedek Small Business Essentials: Legal\, Tax\, and IP Foundations
DESCRIPTION:Contracts for Small Businesses
URL:https://pacelabdc.org/event/bet-tzedek-small-business-essentials-legal-tax-and-ip-foundations-4/
LOCATION:CA
CATEGORIES:Workshops
END:VEVENT
BEGIN:VEVENT
DTSTART;TZID=America/Los_Angeles:20250617T130000
DTEND;TZID=America/Los_Angeles:20250617T143000
DTSTAMP:20260422T102438
CREATED:20250213T224212Z
LAST-MODIFIED:20250213T224212Z
UID:10000438-1750165200-1750170600@pacelabdc.org
SUMMARY:Available Grants for Business Owners
DESCRIPTION:Discover the world of business grants and elevate your business growth in our monthly workshop! Every month\, we will delve into the diverse landscape of grants available for businessowners\, ranging from government to private and non-profit options. We will provide a continuous monthly update on grants and their deadlines. \nEach month\, we will also have a special guest who will talk about a specific funding/business topic. Gain insights into the application process\, explore success stories\, and learn best practices for creating actionable strategies. Lastly\, connect with fellow participants and broaden your network!
URL:https://pacelabdc.org/event/available-grants-for-business-owners-12/
LOCATION:CA
CATEGORIES:Workshops
END:VEVENT
BEGIN:VEVENT
DTSTART;TZID=America/Los_Angeles:20250618T110000
DTEND;TZID=America/Los_Angeles:20250618T130000
DTSTAMP:20260422T102438
CREATED:20250509T180434Z
LAST-MODIFIED:20250604T172650Z
UID:10000671-1750244400-1750251600@pacelabdc.org
SUMMARY:"Meet Our Procurement Experts" Webinar Series
DESCRIPTION:Strategies for Creating a Budget Proposal
URL:https://pacelabdc.org/event/meet-our-procurement-experts-webinar-series-2/
LOCATION:CA
CATEGORIES:Workshops
END:VEVENT
BEGIN:VEVENT
DTSTART;TZID=America/Los_Angeles:20250618T120000
DTEND;TZID=America/Los_Angeles:20250618T130000
DTSTAMP:20260422T102438
CREATED:20250402T215449Z
LAST-MODIFIED:20250604T172410Z
UID:10000576-1750248000-1750251600@pacelabdc.org
SUMMARY:Mastering SEO with AI: Boost Your Website Traffic & Leads
DESCRIPTION:Automate Your SEO Using AI – ChatGPT & Google Gemini
URL:https://pacelabdc.org/event/mastering-seo-with-ai-boost-your-website-traffic-leads-2/
LOCATION:CA
CATEGORIES:Workshops
END:VEVENT
BEGIN:VEVENT
DTSTART;TZID=America/Los_Angeles:20250619T090000
DTEND;TZID=America/Los_Angeles:20250619T100000
DTSTAMP:20260422T102438
CREATED:20250409T214912Z
LAST-MODIFIED:20250409T214912Z
UID:10000614-1750323600-1750327200@pacelabdc.org
SUMMARY:Part 3: Recovery and Rebuilding Planning After the Fires
DESCRIPTION:Part 3.2: Thursdays\, June 5\, 12\, 19\, 26 at 9:00 AM
URL:https://pacelabdc.org/event/part-3-recovery-and-rebuilding-planning-after-the-fires-9/
LOCATION:CA
CATEGORIES:Workshops
END:VEVENT
BEGIN:VEVENT
DTSTART;TZID=America/Los_Angeles:20250619T110000
DTEND;TZID=America/Los_Angeles:20250619T120000
DTSTAMP:20260422T102438
CREATED:20250402T215638Z
LAST-MODIFIED:20250402T215638Z
UID:10000579-1750330800-1750334400@pacelabdc.org
SUMMARY:Digital Marketing for Women-Owned Businesses
DESCRIPTION:The Email & Social Media Power Play
URL:https://pacelabdc.org/event/digital-marketing-for-women-owned-businesses-3/
LOCATION:CA
CATEGORIES:Workshops
END:VEVENT
BEGIN:VEVENT
DTSTART;TZID=America/Los_Angeles:20250625T110000
DTEND;TZID=America/Los_Angeles:20250625T130000
DTSTAMP:20260422T102438
CREATED:20250509T180608Z
LAST-MODIFIED:20250509T180608Z
UID:10000672-1750849200-1750856400@pacelabdc.org
SUMMARY:"Meet Our Procurement Experts" Webinar Series
DESCRIPTION:How to Strengthen Your Loan Application
URL:https://pacelabdc.org/event/meet-our-procurement-experts-webinar-series-3/
LOCATION:CA
CATEGORIES:Workshops
END:VEVENT
BEGIN:VEVENT
DTSTART;TZID=America/Los_Angeles:20250626T090000
DTEND;TZID=America/Los_Angeles:20250626T100000
DTSTAMP:20260422T102438
CREATED:20250409T214944Z
LAST-MODIFIED:20250409T214944Z
UID:10000615-1750928400-1750932000@pacelabdc.org
SUMMARY:Part 3: Recovery and Rebuilding Planning After the Fires
DESCRIPTION:Part 3.2: Thursdays\, June 5\, 12\, 19\, 26 at 9:00 AM
URL:https://pacelabdc.org/event/part-3-recovery-and-rebuilding-planning-after-the-fires-10/
LOCATION:CA
CATEGORIES:Workshops
END:VEVENT
END:VCALENDAR