BEGIN:VCALENDAR
VERSION:2.0
PRODID:-// - ECPv6.15.20//NONSGML v1.0//EN
CALSCALE:GREGORIAN
METHOD:PUBLISH
X-ORIGINAL-URL:https://pacelabdc.org
X-WR-CALDESC:Events for 
REFRESH-INTERVAL;VALUE=DURATION:PT1H
X-Robots-Tag:noindex
X-PUBLISHED-TTL:PT1H
BEGIN:VTIMEZONE
TZID:America/Los_Angeles
BEGIN:DAYLIGHT
TZOFFSETFROM:-0800
TZOFFSETTO:-0700
TZNAME:PDT
DTSTART:20240310T100000
END:DAYLIGHT
BEGIN:STANDARD
TZOFFSETFROM:-0700
TZOFFSETTO:-0800
TZNAME:PST
DTSTART:20241103T090000
END:STANDARD
BEGIN:DAYLIGHT
TZOFFSETFROM:-0800
TZOFFSETTO:-0700
TZNAME:PDT
DTSTART:20250309T100000
END:DAYLIGHT
BEGIN:STANDARD
TZOFFSETFROM:-0700
TZOFFSETTO:-0800
TZNAME:PST
DTSTART:20251102T090000
END:STANDARD
BEGIN:DAYLIGHT
TZOFFSETFROM:-0800
TZOFFSETTO:-0700
TZNAME:PDT
DTSTART:20260308T100000
END:DAYLIGHT
BEGIN:STANDARD
TZOFFSETFROM:-0700
TZOFFSETTO:-0800
TZNAME:PST
DTSTART:20261101T090000
END:STANDARD
END:VTIMEZONE
BEGIN:VEVENT
DTSTART;TZID=America/Los_Angeles:20250501T090000
DTEND;TZID=America/Los_Angeles:20250501T100000
DTSTAMP:20260422T115844
CREATED:20250409T214228Z
LAST-MODIFIED:20250409T214228Z
UID:10000606-1746090000-1746093600@pacelabdc.org
SUMMARY:Part 3: Recovery and Rebuilding Planning After the Fires
DESCRIPTION:Part 3.1: Thursdays\, May 1\, 8\, 15\, 22\, 29 at 9:00 AM
URL:https://pacelabdc.org/event/part-3-recovery-and-rebuilding-planning-after-the-fires/
LOCATION:CA
CATEGORIES:Workshops
END:VEVENT
BEGIN:VEVENT
DTSTART;TZID=America/Los_Angeles:20250501T100000
DTEND;TZID=America/Los_Angeles:20250501T110000
DTSTAMP:20260422T115844
CREATED:20250312T220120Z
LAST-MODIFIED:20250312T220120Z
UID:10000524-1746093600-1746097200@pacelabdc.org
SUMMARY:Mo’ Money Fewer Problems: The Inside Scoop on Business Loans by Genwest Capital Advisors
DESCRIPTION:Business Loan Application Forms and Package Explained
URL:https://pacelabdc.org/event/mo-money-fewer-problems-the-inside-scoop-on-business-loans-by-genwest-capital-advisors-4/
LOCATION:CA
CATEGORIES:Workshops
END:VEVENT
BEGIN:VEVENT
DTSTART;TZID=America/Los_Angeles:20250506T120000
DTEND;TZID=America/Los_Angeles:20250506T130000
DTSTAMP:20260422T115844
CREATED:20250414T213040Z
LAST-MODIFIED:20250414T213054Z
UID:10000629-1746532800-1746536400@pacelabdc.org
SUMMARY:Procurement Masterclass: Comprehensive Guide to Work with Caltrans
DESCRIPTION:Introduction to Caltrans Procurement Program
URL:https://pacelabdc.org/event/procurement-masterclass-comprehensive-guide-to-work-with-caltrans-5/
LOCATION:CA
CATEGORIES:Workshops
END:VEVENT
BEGIN:VEVENT
DTSTART;TZID=America/Los_Angeles:20250507T100000
DTEND;TZID=America/Los_Angeles:20250507T110000
DTSTAMP:20260422T115844
CREATED:20250404T172103Z
LAST-MODIFIED:20250404T172103Z
UID:10000596-1746612000-1746615600@pacelabdc.org
SUMMARY:State Small Business & Disabled Veteran Business Enterprise Contracting & Procurement Training
DESCRIPTION:Session 4: Looking for Procurement Opportunities
URL:https://pacelabdc.org/event/state-small-business-disabled-veteran-business-enterprise-contracting-procurement-training-3/
LOCATION:CA
CATEGORIES:Workshops
END:VEVENT
BEGIN:VEVENT
DTSTART;TZID=America/Los_Angeles:20250507T120000
DTEND;TZID=America/Los_Angeles:20250507T130000
DTSTAMP:20260422T115844
CREATED:20250402T215411Z
LAST-MODIFIED:20250402T215411Z
UID:10000575-1746619200-1746622800@pacelabdc.org
SUMMARY:Mastering SEO with AI: Boost Your Website Traffic & Leads
DESCRIPTION:Increase Your Website Sales & Leads Using SEO
URL:https://pacelabdc.org/event/mastering-seo-with-ai-boost-your-website-traffic-leads/
LOCATION:CA
CATEGORIES:Workshops
END:VEVENT
BEGIN:VEVENT
DTSTART;TZID=America/Los_Angeles:20250508T090000
DTEND;TZID=America/Los_Angeles:20250508T100000
DTSTAMP:20260422T115844
CREATED:20250409T214305Z
LAST-MODIFIED:20250409T214305Z
UID:10000607-1746694800-1746698400@pacelabdc.org
SUMMARY:Part 3: Recovery and Rebuilding Planning After the Fires
DESCRIPTION:Part 3.1: Thursdays\, May 1\, 8\, 15\, 22\, 29 at 9:00 AM
URL:https://pacelabdc.org/event/part-3-recovery-and-rebuilding-planning-after-the-fires-2/
LOCATION:CA
CATEGORIES:Workshops
END:VEVENT
BEGIN:VEVENT
DTSTART;TZID=America/Los_Angeles:20250508T130000
DTEND;TZID=America/Los_Angeles:20250508T140000
DTSTAMP:20260422T115844
CREATED:20241223T191618Z
LAST-MODIFIED:20241223T191715Z
UID:10000351-1746709200-1746712800@pacelabdc.org
SUMMARY:Digital Marketing Webinar Series
DESCRIPTION:YouTube for Business
URL:https://pacelabdc.org/event/digital-marketing-webinar-series-4/
LOCATION:CA
CATEGORIES:Workshops
END:VEVENT
BEGIN:VEVENT
DTSTART;TZID=America/Los_Angeles:20250510T093000
DTEND;TZID=America/Los_Angeles:20250510T150000
DTSTAMP:20260422T115844
CREATED:20250218T210054Z
LAST-MODIFIED:20250326T225550Z
UID:10000449-1746869400-1746889200@pacelabdc.org
SUMMARY:2025 SEASON I Entrepreneur Training Program (by PACE WBC)-10 Sessions
DESCRIPTION:The Entrepreneur Training Program (ETP) is a 24-hour business start-up course for entrepreneurs that want to start a new business.
URL:https://pacelabdc.org/event/2025-season-i-entrepreneur-training-program-by-pace-wbc-10-sessions/
LOCATION:CA
CATEGORIES:Workshops
END:VEVENT
BEGIN:VEVENT
DTSTART;TZID=America/Los_Angeles:20250513T120000
DTEND;TZID=America/Los_Angeles:20250513T130000
DTSTAMP:20260422T115844
CREATED:20250414T213145Z
LAST-MODIFIED:20250414T213306Z
UID:10000630-1747137600-1747141200@pacelabdc.org
SUMMARY:Procurement Masterclass: Comprehensive Guide to Work with Caltrans
DESCRIPTION:Obtaining Certifications
URL:https://pacelabdc.org/event/procurement-masterclass-comprehensive-guide-to-work-with-caltrans-6/
LOCATION:CA
CATEGORIES:Workshops
END:VEVENT
BEGIN:VEVENT
DTSTART;TZID=America/Los_Angeles:20250515T090000
DTEND;TZID=America/Los_Angeles:20250515T100000
DTSTAMP:20260422T115844
CREATED:20250409T214340Z
LAST-MODIFIED:20250409T214436Z
UID:10000608-1747299600-1747303200@pacelabdc.org
SUMMARY:Part 3: Recovery and Rebuilding Planning After the Fires
DESCRIPTION:Part 3.1: Thursdays\, May 1\, 8\, 15\, 22\, 29 at 9:00 AM
URL:https://pacelabdc.org/event/part-3-recovery-and-rebuilding-planning-after-the-fires-3/
LOCATION:CA
CATEGORIES:Workshops
END:VEVENT
BEGIN:VEVENT
DTSTART;TZID=America/Los_Angeles:20250517T093000
DTEND;TZID=America/Los_Angeles:20250517T150000
DTSTAMP:20260422T115844
CREATED:20250218T210447Z
LAST-MODIFIED:20250326T225713Z
UID:10000450-1747474200-1747494000@pacelabdc.org
SUMMARY:2025 SEASON I Entrepreneur Training Program (by PACE WBC)-10 Sessions
DESCRIPTION:The Entrepreneur Training Program (ETP) is a 24-hour business start-up course for entrepreneurs that want to start a new business.
URL:https://pacelabdc.org/event/2025-season-i-entrepreneur-training-program-by-pace-wbc-10-sessions-2/
LOCATION:CA
CATEGORIES:Workshops
END:VEVENT
BEGIN:VEVENT
DTSTART;TZID=America/Los_Angeles:20250520T100000
DTEND;TZID=America/Los_Angeles:20250520T110000
DTSTAMP:20260422T115844
CREATED:20241203T213817Z
LAST-MODIFIED:20241203T213817Z
UID:10000324-1747735200-1747738800@pacelabdc.org
SUMMARY:Financial Bootcamp for Small Business Owners Series II
DESCRIPTION:MoneySmart Business Solutions by Lorna Whiteaker Join us for this 3-part webinar series on business financials: \n\nMarch 25\, 2025 – Budgeting & Cash Flow Management – The gateway to abundance!\nApril 22\, 2025 – Forecasting & Growth Planning – Success is not an event\, it’s a result!\nMay 20\, 2025 – Hiring Help – Employees & 1099 Contractors – It takes teamwork to make the dream work!
URL:https://pacelabdc.org/event/financial-bootcamp-for-small-business-owners-series-ii-3/
LOCATION:CA
CATEGORIES:Workshops
END:VEVENT
BEGIN:VEVENT
DTSTART;TZID=America/Los_Angeles:20250520T110000
DTEND;TZID=America/Los_Angeles:20250520T120000
DTSTAMP:20260422T115844
CREATED:20241210T213427Z
LAST-MODIFIED:20250414T213707Z
UID:10000337-1747738800-1747742400@pacelabdc.org
SUMMARY:Boost Your Online Visibility and Sales in 2025
DESCRIPTION:In partnership with Grow with Google for Small Businesses and Startups. Start the new year strong with strategies to grow your business! \nThis workshop will cover: \n\n1/28/25 – Make Your Website Work for You: Build a search-friendly site that drives results.\n3/18/25 -Reach Customers Online with Google: Leverage Google tools to boost your visibility.\n5/20/25 – Increase Your Sales with Google Tools: Promote products and drive sales.
URL:https://pacelabdc.org/event/boost-your-online-visibility-and-sales-in-2025-3/
LOCATION:CA
CATEGORIES:Workshops
END:VEVENT
BEGIN:VEVENT
DTSTART;TZID=America/Los_Angeles:20250520T120000
DTEND;TZID=America/Los_Angeles:20250520T130000
DTSTAMP:20260422T115844
CREATED:20250414T213349Z
LAST-MODIFIED:20250414T213349Z
UID:10000631-1747742400-1747746000@pacelabdc.org
SUMMARY:Procurement Masterclass: Comprehensive Guide to Work with Caltrans
DESCRIPTION:Working on Bid Proposals
URL:https://pacelabdc.org/event/procurement-masterclass-comprehensive-guide-to-work-with-caltrans-7/
LOCATION:CA
CATEGORIES:Workshops
END:VEVENT
BEGIN:VEVENT
DTSTART;TZID=America/Los_Angeles:20250520T130000
DTEND;TZID=America/Los_Angeles:20250520T140000
DTSTAMP:20260422T115844
CREATED:20250225T220943Z
LAST-MODIFIED:20250225T220943Z
UID:10000492-1747746000-1747749600@pacelabdc.org
SUMMARY:Bet Tzedek Small Business Essentials: Legal\, Tax\, and IP Foundations
DESCRIPTION:Small Business Entity Choice Basics
URL:https://pacelabdc.org/event/bet-tzedek-small-business-essentials-legal-tax-and-ip-foundations-3/
LOCATION:CA
CATEGORIES:Workshops
END:VEVENT
BEGIN:VEVENT
DTSTART;TZID=America/Los_Angeles:20250520T130000
DTEND;TZID=America/Los_Angeles:20250520T143000
DTSTAMP:20260422T115844
CREATED:20250213T224116Z
LAST-MODIFIED:20250213T224116Z
UID:10000437-1747746000-1747751400@pacelabdc.org
SUMMARY:Available Grants for Business Owners
DESCRIPTION:Discover the world of business grants and elevate your business growth in our monthly workshop! Every month\, we will delve into the diverse landscape of grants available for businessowners\, ranging from government to private and non-profit options. We will provide a continuous monthly update on grants and their deadlines. \nEach month\, we will also have a special guest who will talk about a specific funding/business topic. Gain insights into the application process\, explore success stories\, and learn best practices for creating actionable strategies. Lastly\, connect with fellow participants and broaden your network!
URL:https://pacelabdc.org/event/available-grants-for-business-owners-11/
LOCATION:CA
CATEGORIES:Workshops
END:VEVENT
BEGIN:VEVENT
DTSTART;TZID=America/Los_Angeles:20250522T090000
DTEND;TZID=America/Los_Angeles:20250522T100000
DTSTAMP:20260422T115844
CREATED:20250409T214517Z
LAST-MODIFIED:20250409T214517Z
UID:10000609-1747904400-1747908000@pacelabdc.org
SUMMARY:Part 3: Recovery and Rebuilding Planning After the Fires
DESCRIPTION:Part 3.1: Thursdays\, May 1\, 8\, 15\, 22\, 29 at 9:00 AM
URL:https://pacelabdc.org/event/part-3-recovery-and-rebuilding-planning-after-the-fires-4/
LOCATION:CA
CATEGORIES:Workshops
END:VEVENT
BEGIN:VEVENT
DTSTART;TZID=America/Los_Angeles:20250522T110000
DTEND;TZID=America/Los_Angeles:20250522T120000
DTSTAMP:20260422T115844
CREATED:20250402T215602Z
LAST-MODIFIED:20250402T215602Z
UID:10000578-1747911600-1747915200@pacelabdc.org
SUMMARY:Digital Marketing for Women-Owned Businesses
DESCRIPTION:Win with Email Marketing
URL:https://pacelabdc.org/event/digital-marketing-for-women-owned-businesses-2/
LOCATION:CA
CATEGORIES:Workshops
END:VEVENT
BEGIN:VEVENT
DTSTART;TZID=America/Los_Angeles:20250524T093000
DTEND;TZID=America/Los_Angeles:20250524T150000
DTSTAMP:20260422T115844
CREATED:20250218T210548Z
LAST-MODIFIED:20250326T225733Z
UID:10000451-1748079000-1748098800@pacelabdc.org
SUMMARY:2025 SEASON I Entrepreneur Training Program (by PACE WBC)-10 Sessions
DESCRIPTION:The Entrepreneur Training Program (ETP) is a 24-hour business start-up course for entrepreneurs that want to start a new business.
URL:https://pacelabdc.org/event/2025-season-i-entrepreneur-training-program-by-pace-wbc-10-sessions-3/
LOCATION:CA
CATEGORIES:Workshops
END:VEVENT
BEGIN:VEVENT
DTSTART;TZID=America/Los_Angeles:20250527T120000
DTEND;TZID=America/Los_Angeles:20250527T130000
DTSTAMP:20260422T115844
CREATED:20250414T213448Z
LAST-MODIFIED:20250414T213521Z
UID:10000632-1748347200-1748350800@pacelabdc.org
SUMMARY:Procurement Masterclass: Comprehensive Guide to Work with Caltrans
DESCRIPTION:Access to Capital -Funding to fuel your liftoff
URL:https://pacelabdc.org/event/procurement-masterclass-comprehensive-guide-to-work-with-caltrans-8/
LOCATION:CA
CATEGORIES:Workshops
END:VEVENT
BEGIN:VEVENT
DTSTART;TZID=America/Los_Angeles:20250529T080000
DTEND;TZID=America/Los_Angeles:20250529T140000
DTSTAMP:20260422T115844
CREATED:20250418T155549Z
LAST-MODIFIED:20250418T155639Z
UID:10000641-1748505600-1748527200@pacelabdc.org
SUMMARY:2025 ProcureLA Summit: Working with the Big 3 (LADWP\, LAWA & POLA)
DESCRIPTION:Connect\, Grow\, and Transform Businesses in the City of Los Angeles  \n\n\n\n\nEVENT HIGHLIGHTS: \n\n\n\n\n\nEngaging in panel discussions with our Big 3 partners\nNetworking with 30+ government agencies and prime vendors\n300+ suppliers in attendance\nIntimate\, targeted procurement matchmaking sessions\nTraining workshops\nOn-site support from the ProcureLA team for Vendor portal registration\, certification assistance\, and capability statement guidance
URL:https://pacelabdc.org/event/2025-procurela-summit-working-with-the-big-3-ladwp-lawa-pola/
LOCATION:Audrey Irmas Pavilion\, 3643 Wilshire Blvd\, Los Angeles\, CA\, 90010\, United States
CATEGORIES:Workshops
END:VEVENT
BEGIN:VEVENT
DTSTART;TZID=America/Los_Angeles:20250529T090000
DTEND;TZID=America/Los_Angeles:20250529T100000
DTSTAMP:20260422T115844
CREATED:20250409T214547Z
LAST-MODIFIED:20250409T214547Z
UID:10000610-1748509200-1748512800@pacelabdc.org
SUMMARY:Part 3: Recovery and Rebuilding Planning After the Fires
DESCRIPTION:Part 3.1: Thursdays\, May 1\, 8\, 15\, 22\, 29 at 9:00 AM
URL:https://pacelabdc.org/event/part-3-recovery-and-rebuilding-planning-after-the-fires-5/
LOCATION:CA
CATEGORIES:Workshops
END:VEVENT
BEGIN:VEVENT
DTSTART;TZID=America/Los_Angeles:20250529T130000
DTEND;TZID=America/Los_Angeles:20250529T140000
DTSTAMP:20260422T115844
CREATED:20241223T191847Z
LAST-MODIFIED:20241223T191908Z
UID:10000352-1748523600-1748527200@pacelabdc.org
SUMMARY:Digital Marketing Webinar Series
DESCRIPTION:LinkedIn: From Profile to Pro-Fabulous!
URL:https://pacelabdc.org/event/digital-marketing-webinar-series-5/
LOCATION:CA
CATEGORIES:Workshops
END:VEVENT
BEGIN:VEVENT
DTSTART;TZID=America/Los_Angeles:20250531T093000
DTEND;TZID=America/Los_Angeles:20250531T150000
DTSTAMP:20260422T115844
CREATED:20250218T210654Z
LAST-MODIFIED:20250326T225824Z
UID:10000452-1748683800-1748703600@pacelabdc.org
SUMMARY:2025 SEASON I Entrepreneur Training Program (by PACE WBC)-10 Sessions
DESCRIPTION:The Entrepreneur Training Program (ETP) is a 24-hour business start-up course for entrepreneurs that want to start a new business.
URL:https://pacelabdc.org/event/2025-season-i-entrepreneur-training-program-by-pace-wbc-10-sessions-4/
LOCATION:CA
CATEGORIES:Workshops
END:VEVENT
END:VCALENDAR