BEGIN:VCALENDAR
VERSION:2.0
PRODID:-// - ECPv6.15.20//NONSGML v1.0//EN
CALSCALE:GREGORIAN
METHOD:PUBLISH
X-ORIGINAL-URL:https://pacelabdc.org
X-WR-CALDESC:Events for 
REFRESH-INTERVAL;VALUE=DURATION:PT1H
X-Robots-Tag:noindex
X-PUBLISHED-TTL:PT1H
BEGIN:VTIMEZONE
TZID:America/Los_Angeles
BEGIN:DAYLIGHT
TZOFFSETFROM:-0800
TZOFFSETTO:-0700
TZNAME:PDT
DTSTART:20250309T100000
END:DAYLIGHT
BEGIN:STANDARD
TZOFFSETFROM:-0700
TZOFFSETTO:-0800
TZNAME:PST
DTSTART:20251102T090000
END:STANDARD
BEGIN:DAYLIGHT
TZOFFSETFROM:-0800
TZOFFSETTO:-0700
TZNAME:PDT
DTSTART:20260308T100000
END:DAYLIGHT
BEGIN:STANDARD
TZOFFSETFROM:-0700
TZOFFSETTO:-0800
TZNAME:PST
DTSTART:20261101T090000
END:STANDARD
BEGIN:DAYLIGHT
TZOFFSETFROM:-0800
TZOFFSETTO:-0700
TZNAME:PDT
DTSTART:20270314T100000
END:DAYLIGHT
BEGIN:STANDARD
TZOFFSETFROM:-0700
TZOFFSETTO:-0800
TZNAME:PST
DTSTART:20271107T090000
END:STANDARD
END:VTIMEZONE
BEGIN:VEVENT
DTSTART;TZID=America/Los_Angeles:20260331T110000
DTEND;TZID=America/Los_Angeles:20260331T110000
DTSTAMP:20260421T171113
CREATED:20260320T222939Z
LAST-MODIFIED:20260320T222939Z
UID:10001371-1774954800-1774954800@pacelabdc.org
SUMMARY:Coffman Specialties\, Inc.
DESCRIPTION:Bid Date: TUESDAY\, MARCH 31ST\, 2026 BID TIME: 11:00 AM PT **RESPOND BY 5:00 PM\, MONDAY\, MARCH 30TH** \nBid Project: CITY OF LONG BEACH – R-750 TAXIWAY F REALIGNMENT AND RECONSTRUCTION PROJECT AT THE LONG BEACH AIRPORT \n 
URL:https://pacelabdc.org/event/coffman-specialties-inc-12/
CATEGORIES:Doing Business with Prime Contractors
END:VEVENT
BEGIN:VEVENT
DTSTART;TZID=America/Los_Angeles:20260331T150000
DTEND;TZID=America/Los_Angeles:20260331T150000
DTSTAMP:20260421T171113
CREATED:20260213T212757Z
LAST-MODIFIED:20260306T235812Z
UID:10001294-1774969200-1774969200@pacelabdc.org
SUMMARY:SUKUT Construction
DESCRIPTION:Bid Date: March 31\, 2026\, at 3:00 PM PT \nBid Project: RFP titled Syphon Reservoir Improvement Project\, Project No. 03808 \nNAICS Codes: \n\n\n\n\nSUBS / SERVICE PROVIDERS \n\n\nCODE \n\n\n\nSUPPLIERS \n\n\nCODE \n\n\n\n\nAsphalt Paving \n\n\n237310 \n\n\n\nAggregates \n\n\n423320 \n\n\n\n\nCCTV Video Inspection \n\n\n238990 \n\n\n\nAsphalt \n\n\n423320 \n\n\n\n\nConcrete Flatwork \n\n\n238110 \n\n\n\nConcrete R/M \n\n\n423320 \n\n\n\n\nErosion Control \n\n\n561730 \n\n\n\nEquipment Rental \n\n\n532411 \n\n\n\n\nLandscaping \n\n\n561730 \n\n\n\nErosion Control \n\n\n423990 \n\n\n\n\nPotholing \n\n\n238910 \n\n\n\nMisc. Metals \n\n\n238120 \n\n\n\n\nSaw Cutting \n\n\n561990 \n\n\n\nPipeline Materials \n\n\n423990 \n\n\n\n\nStreet Sweeping \n\n\n488490 \n\n\n\nPrecast Concrete Structures \n\n\n238120 \n\n\n\n\nSWPPP \n\n\n541620 \n\n\n\n\n\n\n\nTrucking \n\n\n484220 \n\n\n\n\n\n\n\nVideo Recording of Existing Conditions \n\n\n541611 \n\n\n\n\n\n\n\nClear & Grub \n\n\n238910 \n\n\n\n\n\n\n\nReinforcing Steel \n\n\n238120 \n\n\n\n\n\n\n\nSteel Pipe Welding \n\n\n238190 \n\n\n\n\n\n\n\nJack Welded Steel Pipe \n\n\n237310 \n\n\n\n\n\n\n\nConstruction Engineeing and Inspection Services \n\n\n541330 \n\n\n\n\n\n\n\nFencing & Metal Beam Guard Rail \n\n\n238990 \n\n\n\n\n\n\n\nLand Surveying \n\n\n541990
URL:https://pacelabdc.org/event/sukut-construction-7/
CATEGORIES:Doing Business with Prime Contractors
END:VEVENT
END:VCALENDAR