BEGIN:VCALENDAR
VERSION:2.0
PRODID:-// - ECPv6.15.20//NONSGML v1.0//EN
CALSCALE:GREGORIAN
METHOD:PUBLISH
X-ORIGINAL-URL:https://pacelabdc.org
X-WR-CALDESC:Events for 
REFRESH-INTERVAL;VALUE=DURATION:PT1H
X-Robots-Tag:noindex
X-PUBLISHED-TTL:PT1H
BEGIN:VTIMEZONE
TZID:America/Los_Angeles
BEGIN:DAYLIGHT
TZOFFSETFROM:-0800
TZOFFSETTO:-0700
TZNAME:PDT
DTSTART:20240310T100000
END:DAYLIGHT
BEGIN:STANDARD
TZOFFSETFROM:-0700
TZOFFSETTO:-0800
TZNAME:PST
DTSTART:20241103T090000
END:STANDARD
BEGIN:DAYLIGHT
TZOFFSETFROM:-0800
TZOFFSETTO:-0700
TZNAME:PDT
DTSTART:20250309T100000
END:DAYLIGHT
BEGIN:STANDARD
TZOFFSETFROM:-0700
TZOFFSETTO:-0800
TZNAME:PST
DTSTART:20251102T090000
END:STANDARD
BEGIN:DAYLIGHT
TZOFFSETFROM:-0800
TZOFFSETTO:-0700
TZNAME:PDT
DTSTART:20260308T100000
END:DAYLIGHT
BEGIN:STANDARD
TZOFFSETFROM:-0700
TZOFFSETTO:-0800
TZNAME:PST
DTSTART:20261101T090000
END:STANDARD
END:VTIMEZONE
BEGIN:VEVENT
DTSTART;TZID=America/Los_Angeles:20251204T140000
DTEND;TZID=America/Los_Angeles:20251204T140000
DTSTAMP:20260422T004400
CREATED:20251125T194349Z
LAST-MODIFIED:20251125T194507Z
UID:10001087-1764856800-1764856800@pacelabdc.org
SUMMARY:Covenant Technical Solutions
DESCRIPTION:Bid Date: December 4\, 2025\, at 2:00 PM PT \nBid Project: City of Santa Ana PFAS Treatment at John Garthe Reservoir\, Santa Ana\, CA \nNAICS Codes: Furnish Hydro-generator and Bypass piping (NAICS 237110). Selective demolition and removal of existing Hydro-Generator (NAICS 238910).  Furnish Hydro-generator\nElectrical facilities and appurtenances (NAICS 423610\, 421111).  Install Hydro-generator Electrical facilities and appurtenances (NAICS 238210).  Furnish Hydro-generator\nInstrumentation and Control Equipment (NAICS 334519\, 334513). Install Hydro-generator Instrumentation and Control Equipment.  Structural Concrete (NAICS 238910)\, Rebar (NAICS 238120\, 332312)\, Concrete Sidewalk (NAICS 237310).
URL:https://pacelabdc.org/event/covenant-technical-solutions/
CATEGORIES:Doing Business with Prime Contractors
END:VEVENT
END:VCALENDAR