BEGIN:VCALENDAR
VERSION:2.0
PRODID:-// - ECPv6.15.20//NONSGML v1.0//EN
CALSCALE:GREGORIAN
METHOD:PUBLISH
X-ORIGINAL-URL:https://pacelabdc.org
X-WR-CALDESC:Events for 
REFRESH-INTERVAL;VALUE=DURATION:PT1H
X-Robots-Tag:noindex
X-PUBLISHED-TTL:PT1H
BEGIN:VTIMEZONE
TZID:America/Los_Angeles
BEGIN:DAYLIGHT
TZOFFSETFROM:-0800
TZOFFSETTO:-0700
TZNAME:PDT
DTSTART:20250309T100000
END:DAYLIGHT
BEGIN:STANDARD
TZOFFSETFROM:-0700
TZOFFSETTO:-0800
TZNAME:PST
DTSTART:20251102T090000
END:STANDARD
BEGIN:DAYLIGHT
TZOFFSETFROM:-0800
TZOFFSETTO:-0700
TZNAME:PDT
DTSTART:20260308T100000
END:DAYLIGHT
BEGIN:STANDARD
TZOFFSETFROM:-0700
TZOFFSETTO:-0800
TZNAME:PST
DTSTART:20261101T090000
END:STANDARD
BEGIN:DAYLIGHT
TZOFFSETFROM:-0800
TZOFFSETTO:-0700
TZNAME:PDT
DTSTART:20270314T100000
END:DAYLIGHT
BEGIN:STANDARD
TZOFFSETFROM:-0700
TZOFFSETTO:-0800
TZNAME:PST
DTSTART:20271107T090000
END:STANDARD
END:VTIMEZONE
BEGIN:VEVENT
DTSTART;TZID=America/Los_Angeles:20260526T110000
DTEND;TZID=America/Los_Angeles:20260526T120000
DTSTAMP:20260423T034753
CREATED:20260414T203842Z
LAST-MODIFIED:20260414T203842Z
UID:10001407-1779793200-1779796800@pacelabdc.org
SUMMARY:Part 3: Procurement Certifications\, Proposals & Access to Capital
DESCRIPTION:You’ve found the opportunity—now it’s time to seal the deal. The final phase of the procurement journey is about credibility\, precision\, and the financial “fuel” to cross the finish line. \nIn this closing session\, we tackle the “Big Three” of contract execution: getting certified\, writing the winning proposal\, and securing the capital needed to perform. We’ll demystify the alphabet soup of certifications (MBE\, WBE\, DVBE) and show you how to price your services so your “win” is actually profitable. \nYour Competitive Edge: \nWalk away with a clear execution plan. You’ll know how to validate your business through certifications\, submit high-quality proposals\, and ensure your finances are ready for the big leagues. \nPresenter: Cristina Espiritu (PACE Procurement Manager) \nCristina Espiritu\, a distinguished professional with a dual JD/MBA degree from Penn State University\, brings over two decades of experience in finance\, strategic consulting\, contract negotiation\, procurement and business and asset valuation. She has offered her expertise to organizations ranging from startups up to publicly-traded companies\, helping them develop and identify strategies to propel growth and maximize value. She has also been an entrepreneur and sold her first business in college. Since then\, she has founded several companies and organizations in diverse sectors including technology\, marketing\, and health and wellness. She has served and held leadership roles\, on the board of director positions in non-profit organizations\, as well as served as a mentor for incubator programs in Asia\, Europe\, and Latin America. \nCristina is a trained mediator\, certified by the Orange Human Relations Mediation Program. She also currently serves as a Procurement Manager at PACE (Pacific Asian Consortium in Employment).
URL:https://pacelabdc.org/event/part-3-procurement-certifications-proposals-access-to-capital/
CATEGORIES:Community Events,Workshops
END:VEVENT
END:VCALENDAR