BEGIN:VCALENDAR
VERSION:2.0
PRODID:-// - ECPv6.15.20//NONSGML v1.0//EN
CALSCALE:GREGORIAN
METHOD:PUBLISH
X-ORIGINAL-URL:https://pacelabdc.org
X-WR-CALDESC:Events for 
REFRESH-INTERVAL;VALUE=DURATION:PT1H
X-Robots-Tag:noindex
X-PUBLISHED-TTL:PT1H
BEGIN:VTIMEZONE
TZID:America/Los_Angeles
BEGIN:DAYLIGHT
TZOFFSETFROM:-0800
TZOFFSETTO:-0700
TZNAME:PDT
DTSTART:20250309T100000
END:DAYLIGHT
BEGIN:STANDARD
TZOFFSETFROM:-0700
TZOFFSETTO:-0800
TZNAME:PST
DTSTART:20251102T090000
END:STANDARD
BEGIN:DAYLIGHT
TZOFFSETFROM:-0800
TZOFFSETTO:-0700
TZNAME:PDT
DTSTART:20260308T100000
END:DAYLIGHT
BEGIN:STANDARD
TZOFFSETFROM:-0700
TZOFFSETTO:-0800
TZNAME:PST
DTSTART:20261101T090000
END:STANDARD
BEGIN:DAYLIGHT
TZOFFSETFROM:-0800
TZOFFSETTO:-0700
TZNAME:PDT
DTSTART:20270314T100000
END:DAYLIGHT
BEGIN:STANDARD
TZOFFSETFROM:-0700
TZOFFSETTO:-0800
TZNAME:PST
DTSTART:20271107T090000
END:STANDARD
END:VTIMEZONE
BEGIN:VEVENT
DTSTART;TZID=America/Los_Angeles:20260203T173000
DTEND;TZID=America/Los_Angeles:20260203T193000
DTSTAMP:20260421T213313
CREATED:20260128T233244Z
LAST-MODIFIED:20260128T233846Z
UID:10001267-1770139800-1770147000@pacelabdc.org
SUMMARY:Financial Health J.P. Morgan Wealth Management - Investing Is for Everyone
DESCRIPTION:
URL:https://pacelabdc.org/event/financial-health-j-p-morgan-wealth-management-investing-is-for-everyone/
LOCATION:Chase Bank LA Live Branch\, 1200 S. Figueroa St.\, Los Angeles\, CA\, 90015\, United States
CATEGORIES:Community Events
END:VEVENT
BEGIN:VEVENT
DTSTART;TZID=America/Los_Angeles:20260211T180000
DTEND;TZID=America/Los_Angeles:20260211T200000
DTSTAMP:20260421T213313
CREATED:20251218T174757Z
LAST-MODIFIED:20251218T174757Z
UID:10001228-1770832800-1770840000@pacelabdc.org
SUMMARY:Samuel Adams Brewing the American Dream Speed Coaching: LA
DESCRIPTION:Are you a food and beverage small business owner looking for free business advice? Look no further: we are here to help!\n\n\n\nSamuel Adams Brewing the American Dream and Accion Opportunity Fund are excited to bring our signature Speed Coaching event to Los Angeles! \nThe event will kick off at 6:00PM with networking\, where you’ll connect with fellow small business owners and sign up for coaching. After that\, you’ll have the chance to join multiple coaching sessions with industry experts on key topics like marketing\, sales\, access to capital\, and more! \nMake sure to bring your questions and anything you want feedback on\, such as packaging\, materials\, growth goals\, etc. \nThis event is FREE with light fare and beverages to be served. Must be 21 and over to attend. \nPublic transportation & parking info for Angel City Brewery: \n\nLA Metro: 15-minute walk from Union Station; 4-minute walk from Gold Line – Little Tokyo/Arts District Stop\nBike Racks Available Plus a Metro Bike Station right outside the entrance!\nArea parking: there are several paid parking lots on the block and a limited amount of street parking is also available.\n\nFor more information about the Brewing the American Dream program\, please visit this website.
URL:https://pacelabdc.org/event/samuel-adams-brewing-the-american-dream-speed-coaching-la/
LOCATION:Angel City Brewery\, 216 S Alameda St\, Los Angeles\, CA\, 90012\, United States
CATEGORIES:Community Events
END:VEVENT
BEGIN:VEVENT
DTSTART;TZID=America/Los_Angeles:20260212T090000
DTEND;TZID=America/Los_Angeles:20260212T160000
DTSTAMP:20260421T213313
CREATED:20250821T220307Z
LAST-MODIFIED:20251105T165658Z
UID:10000864-1770886800-1770912000@pacelabdc.org
SUMMARY:2026 Supplier Diversity in Health Care Conference
DESCRIPTION:
URL:https://pacelabdc.org/event/from-commitment-to-impact-supplier-diversity-in-health-care-conference/
LOCATION:Quiet Cannon\, 901 Bella Verde Dr.\, Montebello\, 90640\, United States
CATEGORIES:Community Events
END:VEVENT
BEGIN:VEVENT
DTSTART;TZID=America/Los_Angeles:20260212T160000
DTEND;TZID=America/Los_Angeles:20260212T193000
DTSTAMP:20260421T213313
CREATED:20260205T191950Z
LAST-MODIFIED:20260205T191950Z
UID:10001278-1770912000-1770924600@pacelabdc.org
SUMMARY:DEO's Shop Local Business Lab Series
DESCRIPTION:DEO’s Shop Local Business Lab Series is an interactive experience where small business owners and entrepreneurs can engage in workshops led by subject matter experts to develop strategies and skills that advance their growth and competitiveness. Whether you’re just starting your digital journey or ready to automate and scale\, this lab will equip you with the tools and network needed to innovate with confidence. \n 
URL:https://pacelabdc.org/event/deos-shop-local-business-lab-series/
LOCATION:El Centro de Maravilla\, 4716 Cesar E Chavez Ave\, Los Angeles\, CA\, 90022\, United States
CATEGORIES:Community Events
END:VEVENT
BEGIN:VEVENT
DTSTART;TZID=America/Los_Angeles:20260220T090000
DTEND;TZID=America/Los_Angeles:20260220T123000
DTSTAMP:20260421T213313
CREATED:20260205T194234Z
LAST-MODIFIED:20260205T194234Z
UID:10001279-1771578000-1771590600@pacelabdc.org
SUMMARY:DEO's Shop Local Business Lab Series
DESCRIPTION:DEO’s Shop Local Business Lab Series is an interactive experience where small business owners and entrepreneurs can engage in workshops led by subject matter experts to develop strategies and skills that advance their growth and competitiveness. Whether you’re just starting your digital journey or ready to automate and scale\, this lab will equip you with the tools and network needed to innovate with confidence. \n 
URL:https://pacelabdc.org/event/deos-shop-local-business-lab-series-2/
LOCATION:Community Coalition\, 8101 S. Vermont Ave\, Los Angeles\, CA\, 90044\, United States
CATEGORIES:Community Events
END:VEVENT
BEGIN:VEVENT
DTSTART;TZID=America/Los_Angeles:20260221T090000
DTEND;TZID=America/Los_Angeles:20260221T160000
DTSTAMP:20260421T213313
CREATED:20260213T213323Z
LAST-MODIFIED:20260213T213323Z
UID:10001295-1771664400-1771689600@pacelabdc.org
SUMMARY:Stronger Together: A Solutions Summit
DESCRIPTION:At the Pasadena Convention Center\, residents\, neighbors\, local leaders\, builders\, nonprofits\, and recovery partners will gather for a community-centered day focused on healing\, learning\, and rebuilding. \n 
URL:https://pacelabdc.org/event/stronger-together-a-solutions-summit/
LOCATION:CA
CATEGORIES:Community Events
END:VEVENT
BEGIN:VEVENT
DTSTART;TZID=America/Los_Angeles:20260224T110000
DTEND;TZID=America/Los_Angeles:20260224T130000
DTSTAMP:20260421T213313
CREATED:20260220T221711Z
LAST-MODIFIED:20260220T222236Z
UID:10001314-1771930800-1771938000@pacelabdc.org
SUMMARY:Get Funded: Access to Capital & Financial Readiness for Small Businesses
DESCRIPTION:Get Funded Access to Capital - Feb 24 Speakers\n  \nJoin us for a lunch & learn and discover what lenders\, banks\, and grant programs look for when evaluating small business funding requests. This practical workshop will help you understand your financing options and take the right steps to prepare your business for loans\, grants\, and growth opportunities. \nOur lending experts will cover funding options and other financial resources to help you take your business to the next level. Don’t miss out on this opportunity to gain valuable insights and network with like-minded entrepreneurs! \nKey Learnings: \n\nExplore Financing Options\nStrengthen Your Capital Readiness\nUnlock Opportunities for Long-term Success\n\nLunch and refreshments will be provided (sponsored by Comerica Bank).
URL:https://pacelabdc.org/event/get-funded-access-to-capital-financial-readiness-for-small-businesses/
LOCATION:CA
CATEGORIES:Community Events
END:VEVENT
END:VCALENDAR