BEGIN:VCALENDAR
VERSION:2.0
PRODID:-// - ECPv6.15.20//NONSGML v1.0//EN
CALSCALE:GREGORIAN
METHOD:PUBLISH
X-ORIGINAL-URL:https://pacelabdc.org
X-WR-CALDESC:Events for 
REFRESH-INTERVAL;VALUE=DURATION:PT1H
X-Robots-Tag:noindex
X-PUBLISHED-TTL:PT1H
BEGIN:VTIMEZONE
TZID:America/Los_Angeles
BEGIN:DAYLIGHT
TZOFFSETFROM:-0800
TZOFFSETTO:-0700
TZNAME:PDT
DTSTART:20250309T100000
END:DAYLIGHT
BEGIN:STANDARD
TZOFFSETFROM:-0700
TZOFFSETTO:-0800
TZNAME:PST
DTSTART:20251102T090000
END:STANDARD
BEGIN:DAYLIGHT
TZOFFSETFROM:-0800
TZOFFSETTO:-0700
TZNAME:PDT
DTSTART:20260308T100000
END:DAYLIGHT
BEGIN:STANDARD
TZOFFSETFROM:-0700
TZOFFSETTO:-0800
TZNAME:PST
DTSTART:20261101T090000
END:STANDARD
BEGIN:DAYLIGHT
TZOFFSETFROM:-0800
TZOFFSETTO:-0700
TZNAME:PDT
DTSTART:20270314T100000
END:DAYLIGHT
BEGIN:STANDARD
TZOFFSETFROM:-0700
TZOFFSETTO:-0800
TZNAME:PST
DTSTART:20271107T090000
END:STANDARD
END:VTIMEZONE
BEGIN:VEVENT
DTSTART;TZID=America/Los_Angeles:20260514T100000
DTEND;TZID=America/Los_Angeles:20260514T110000
DTSTAMP:20260421T234635
CREATED:20251117T165933Z
LAST-MODIFIED:20260202T214538Z
UID:10001078-1778752800-1778756400@pacelabdc.org
SUMMARY:The Blueprint for Profitable Growth by Business Beyond the Shoebox
DESCRIPTION:Join us for a 4-part session on Designing Your Sustainable Business Success: \n\nMar 10\, 2026 – Profitability by Design: The Laws of Profitability – Businesses built with the timeless Laws of Profitability will deliver predictable and sustainable rewards!\nApr 14\, 2026 – Profitability By Design: Time Management – How to use clarity\, focus and action to get more stuff done and still have time for you!\nMay 12\, 2026 – The 90-Day Micro Strategy – When you use winning formulas\, you can produce transformational results in 90 days or less!\nMay 14\, 2026 – Hiring Help to Grow Your Business – Employees & Independent Contractors – Compliance guidelines and best practices for getting the help you need to grow your business.
URL:https://pacelabdc.org/event/the-blueprint-for-profitable-growth-by-business-beyond-the-shoebox/2026-05-14/
LOCATION:CA
CATEGORIES:Workshops
END:VEVENT
BEGIN:VEVENT
DTSTART;TZID=America/Los_Angeles:20260514T120000
DTEND;TZID=America/Los_Angeles:20260514T150000
DTSTAMP:20260421T234635
CREATED:20260421T215925Z
LAST-MODIFIED:20260421T220055Z
UID:10001417-1778760000-1778770800@pacelabdc.org
SUMMARY:PACE Business Fair & Startup Clinic
DESCRIPTION:2026 Pio Pico Workshop by BSC HW (SESSION 2A)\n  \nThis session is designed to support entrepreneurs and small business owners with guidance on starting\, managing\, and growing their businesses.
URL:https://pacelabdc.org/event/pace-business-fair-startup-clinic/
LOCATION:Pio Pico – Koreatown Branch Library\, 694 S Oxford Ave\, Los Angeles\, CA\, 90005\, United States
CATEGORIES:Workshops
END:VEVENT
BEGIN:VEVENT
DTSTART;TZID=America/Los_Angeles:20260514T130000
DTEND;TZID=America/Los_Angeles:20260514T140000
DTSTAMP:20260421T234635
CREATED:20260225T180910Z
LAST-MODIFIED:20260225T180910Z
UID:10001325-1778763600-1778767200@pacelabdc.org
SUMMARY:Next-Level Marketing in Action by Harmony 3 Productions
DESCRIPTION:This series dives into advanced strategies with email + social integration\, video conference\, LinkedIn tactics\, content repurposing\, and Canva + ChatGPT workflows. \nThu\, Mar 19\, 2026 Email + Social: Better Together \nThu\, Apr 2\, 2026 Video That Sells: Simple Ways to Shine On Camera \nThu\, Apr 16\, 2026 LinkedIn Strategies That Get Results \nThu\, May 14\, 2026 Repurpose Like a Pro: Get More from Your Content \nThu\, Jun 11\, 2026 Canva + ChatGPT: Create More Content in Less Time
URL:https://pacelabdc.org/event/next-level-marketing-in-action-by-harmony-3-productions/2026-05-14/
LOCATION:CA
CATEGORIES:Workshops
END:VEVENT
END:VCALENDAR