BEGIN:VCALENDAR
VERSION:2.0
PRODID:-// - ECPv6.15.20//NONSGML v1.0//EN
CALSCALE:GREGORIAN
METHOD:PUBLISH
X-ORIGINAL-URL:https://pacelabdc.org
X-WR-CALDESC:Events for 
REFRESH-INTERVAL;VALUE=DURATION:PT1H
X-Robots-Tag:noindex
X-PUBLISHED-TTL:PT1H
BEGIN:VTIMEZONE
TZID:America/Los_Angeles
BEGIN:DAYLIGHT
TZOFFSETFROM:-0800
TZOFFSETTO:-0700
TZNAME:PDT
DTSTART:20250309T100000
END:DAYLIGHT
BEGIN:STANDARD
TZOFFSETFROM:-0700
TZOFFSETTO:-0800
TZNAME:PST
DTSTART:20251102T090000
END:STANDARD
BEGIN:DAYLIGHT
TZOFFSETFROM:-0800
TZOFFSETTO:-0700
TZNAME:PDT
DTSTART:20260308T100000
END:DAYLIGHT
BEGIN:STANDARD
TZOFFSETFROM:-0700
TZOFFSETTO:-0800
TZNAME:PST
DTSTART:20261101T090000
END:STANDARD
BEGIN:DAYLIGHT
TZOFFSETFROM:-0800
TZOFFSETTO:-0700
TZNAME:PDT
DTSTART:20270314T100000
END:DAYLIGHT
BEGIN:STANDARD
TZOFFSETFROM:-0700
TZOFFSETTO:-0800
TZNAME:PST
DTSTART:20271107T090000
END:STANDARD
END:VTIMEZONE
BEGIN:VEVENT
DTSTART;TZID=America/Los_Angeles:20260506T130000
DTEND;TZID=America/Los_Angeles:20260506T140000
DTSTAMP:20260421T234826
CREATED:20260105T200238Z
LAST-MODIFIED:20260105T200238Z
UID:10001241-1778072400-1778076000@pacelabdc.org
SUMMARY:Business Planning & Credit Building for Small Businesses
DESCRIPTION:In partnership with Chase Business\, this free webinar supports entrepreneurs at every stage. Learn how to create a strong business plan and build business credit to access better funding opportunities. \nUpcoming Dates: \n*Note: Each session covers the same content—attend the date that works best for you. \n\nFeb 4\, 2026 – Business Planning\nMar 4\, 2026 – Business Credit Building\nApr 1\, 2026 – Business Planning\nMay 6\, 2026 – Business Credit Building\nJune 3\, 2026 – Business Planning\n\nWhat You’ll Learn: \n\nHow to build an effective business plan\nWhat funders look for and how to pitch your idea\nHow to build\, improve\, and maintain business credit\nTools and templates to simplify planning
URL:https://pacelabdc.org/event/business-planning-credit-building-for-small-businesses/2026-05-06/
LOCATION:CA
CATEGORIES:Workshops
END:VEVENT
BEGIN:VEVENT
DTSTART;TZID=America/Los_Angeles:20260506T143000
DTEND;TZID=America/Los_Angeles:20260506T143000
DTSTAMP:20260421T234826
CREATED:20260407T194444Z
LAST-MODIFIED:20260407T194444Z
UID:10001394-1778077800-1778077800@pacelabdc.org
SUMMARY:Shimmick Construction Company\, Inc.
DESCRIPTION:Bid Date: May 6\, 2026\, at 2:45 PM PT *Bids should be received no later than 12:00 PM on May 4\, 2026 \nBid Project: PORT OF LOS ANGELES BERTHS 167-169 – PHASE II MARINE OIL TERMINAL IMPROVEMENTS
URL:https://pacelabdc.org/event/shimmick-construction-company-inc-4/
LOCATION:CA
CATEGORIES:Doing Business with Prime Contractors
END:VEVENT
BEGIN:VEVENT
DTSTART;TZID=America/Los_Angeles:20260506T150000
DTEND;TZID=America/Los_Angeles:20260506T150000
DTSTAMP:20260421T234826
CREATED:20260406T212927Z
LAST-MODIFIED:20260406T212927Z
UID:10001387-1778079600-1778079600@pacelabdc.org
SUMMARY:Port of Long Beach
DESCRIPTION:Bid Date: May 6\, 2026\, at 3:00 PM PT \nBid Project: MA-26-02 On-Call Hazardous Waste Management Services
URL:https://pacelabdc.org/event/port-of-long-beach-23/
LOCATION:CA
CATEGORIES:Doing Business with Prime Contractors
END:VEVENT
END:VCALENDAR