BEGIN:VCALENDAR
VERSION:2.0
PRODID:-// - ECPv6.15.20//NONSGML v1.0//EN
CALSCALE:GREGORIAN
METHOD:PUBLISH
X-ORIGINAL-URL:https://pacelabdc.org
X-WR-CALDESC:Events for 
REFRESH-INTERVAL;VALUE=DURATION:PT1H
X-Robots-Tag:noindex
X-PUBLISHED-TTL:PT1H
BEGIN:VTIMEZONE
TZID:America/Los_Angeles
BEGIN:DAYLIGHT
TZOFFSETFROM:-0800
TZOFFSETTO:-0700
TZNAME:PDT
DTSTART:20250309T100000
END:DAYLIGHT
BEGIN:STANDARD
TZOFFSETFROM:-0700
TZOFFSETTO:-0800
TZNAME:PST
DTSTART:20251102T090000
END:STANDARD
BEGIN:DAYLIGHT
TZOFFSETFROM:-0800
TZOFFSETTO:-0700
TZNAME:PDT
DTSTART:20260308T100000
END:DAYLIGHT
BEGIN:STANDARD
TZOFFSETFROM:-0700
TZOFFSETTO:-0800
TZNAME:PST
DTSTART:20261101T090000
END:STANDARD
BEGIN:DAYLIGHT
TZOFFSETFROM:-0800
TZOFFSETTO:-0700
TZNAME:PDT
DTSTART:20270314T100000
END:DAYLIGHT
BEGIN:STANDARD
TZOFFSETFROM:-0700
TZOFFSETTO:-0800
TZNAME:PST
DTSTART:20271107T090000
END:STANDARD
END:VTIMEZONE
BEGIN:VEVENT
DTSTART;TZID=America/Los_Angeles:20260501T160000
DTEND;TZID=America/Los_Angeles:20260501T160000
DTSTAMP:20260421T220710
CREATED:20260330T223414Z
LAST-MODIFIED:20260330T223414Z
UID:10001380-1777651200-1777651200@pacelabdc.org
SUMMARY:FILANC
DESCRIPTION:Bid Date: May 1\, 2026\, at 4:00 PM PT \nBid Project: Rancho California Water District – Mid-Pauba Groundwater Banking Progressive Design-Build; Project No. D2263 \nNAICS Codes: 237110\, 236210\, 237310\, 237990\, 238110\, 238120\, 238140\, 238160\, 238210\, 238220\, 238320\, 238910
URL:https://pacelabdc.org/event/filanc-18/
LOCATION:CA
CATEGORIES:Doing Business with Prime Contractors
END:VEVENT
END:VCALENDAR