BEGIN:VCALENDAR
VERSION:2.0
PRODID:-// - ECPv6.15.20//NONSGML v1.0//EN
CALSCALE:GREGORIAN
METHOD:PUBLISH
X-ORIGINAL-URL:https://pacelabdc.org
X-WR-CALDESC:Events for 
REFRESH-INTERVAL;VALUE=DURATION:PT1H
X-Robots-Tag:noindex
X-PUBLISHED-TTL:PT1H
BEGIN:VTIMEZONE
TZID:America/Los_Angeles
BEGIN:DAYLIGHT
TZOFFSETFROM:-0800
TZOFFSETTO:-0700
TZNAME:PDT
DTSTART:20250309T100000
END:DAYLIGHT
BEGIN:STANDARD
TZOFFSETFROM:-0700
TZOFFSETTO:-0800
TZNAME:PST
DTSTART:20251102T090000
END:STANDARD
BEGIN:DAYLIGHT
TZOFFSETFROM:-0800
TZOFFSETTO:-0700
TZNAME:PDT
DTSTART:20260308T100000
END:DAYLIGHT
BEGIN:STANDARD
TZOFFSETFROM:-0700
TZOFFSETTO:-0800
TZNAME:PST
DTSTART:20261101T090000
END:STANDARD
BEGIN:DAYLIGHT
TZOFFSETFROM:-0800
TZOFFSETTO:-0700
TZNAME:PDT
DTSTART:20270314T100000
END:DAYLIGHT
BEGIN:STANDARD
TZOFFSETFROM:-0700
TZOFFSETTO:-0800
TZNAME:PST
DTSTART:20271107T090000
END:STANDARD
END:VTIMEZONE
BEGIN:VEVENT
DTSTART;TZID=America/Los_Angeles:20260428T110000
DTEND;TZID=America/Los_Angeles:20260428T120000
DTSTAMP:20260421T221125
CREATED:20260414T203651Z
LAST-MODIFIED:20260414T203651Z
UID:10001405-1777374000-1777377600@pacelabdc.org
SUMMARY:Part 1: Procurement 101 – Understanding the Landscape & Getting Ready
DESCRIPTION:This high-impact introductory session strips away the jargon and breaks down the fundamentals of procurement. We’ll show you how to navigate the complex world of government and corporate buying\, giving you the roadmap to compete alongside the big players. Whether you’re looking to work with the city\, major utilities\, or private corporations\, your journey to becoming a preferred vendor starts here. \nYour Competitive Edge: \nBy the end of this session\, you won’t just understand the procurement landscape—you’ll have a clear readiness audit to identify exactly what your business needs to do to start winning contracts. \nNote: This is Part 1 of a 3-part series. To maximize your success\, we highly recommend registering for Part 2: Finding Procurement Opportunities & Positioning to Win and Part 3: Procurement Certifications\, Proposals & Access to Capital to complete your roadmap to contracting. \nPresenter: Cristina Espiritu (PACE Procurement Manager) \nCristina Espiritu\, a distinguished professional with a dual JD/MBA degree from Penn State University\, brings over two decades of experience in finance\, strategic consulting\, contract negotiation\, procurement and business and asset valuation. She has offered her expertise to organizations ranging from startups up to publicly-traded companies\, helping them develop and identify strategies to propel growth and maximize value. She has also been an entrepreneur and sold her first business in college. Since then\, she has founded several companies and organizations in diverse sectors including technology\, marketing\, and health and wellness. She has served and held leadership roles\, on the board of director positions in non-profit organizations\, as well as served as a mentor for incubator programs in Asia\, Europe\, and Latin America. \nCristina is a trained mediator\, certified by the Orange Human Relations Mediation Program. She also currently serves as a Procurement Manager at PACE (Pacific Asian Consortium in Employment).
URL:https://pacelabdc.org/event/part-1-procurement-101-understanding-the-landscape-getting-ready/
LOCATION:CA
CATEGORIES:Community Events,Workshops
END:VEVENT
BEGIN:VEVENT
DTSTART;TZID=America/Los_Angeles:20260428T140000
DTEND;TZID=America/Los_Angeles:20260428T140000
DTSTAMP:20260421T221125
CREATED:20260330T223131Z
LAST-MODIFIED:20260330T223131Z
UID:10001379-1777384800-1777384800@pacelabdc.org
SUMMARY:Inland Empire Utilities Agency
DESCRIPTION:Bid Date: April 28\, 2026\, at 2:00 PM PT \nBid Project: RFQU-JV-26-002: Request for Qualification for the 1158 Monitoring Well Drilling Project No. EN25022.05 \nNAICS Code: 213111
URL:https://pacelabdc.org/event/inland-empire-utilities-agency-10/
LOCATION:CA
CATEGORIES:Doing Business with Prime Contractors
END:VEVENT
BEGIN:VEVENT
DTSTART;TZID=America/Los_Angeles:20260428T150000
DTEND;TZID=America/Los_Angeles:20260428T150000
DTSTAMP:20260421T221125
CREATED:20260324T222344Z
LAST-MODIFIED:20260324T222344Z
UID:10001374-1777388400-1777388400@pacelabdc.org
SUMMARY:Port of Long Beach
DESCRIPTION:Bid Date: April 28\, 2026\, at 3:00 PM PT \nBid Project: On-Call Professional Planning Services
URL:https://pacelabdc.org/event/port-of-long-beach-21/
LOCATION:CA
CATEGORIES:Doing Business with Prime Contractors
END:VEVENT
END:VCALENDAR