BEGIN:VCALENDAR
VERSION:2.0
PRODID:-// - ECPv6.15.20//NONSGML v1.0//EN
CALSCALE:GREGORIAN
METHOD:PUBLISH
X-ORIGINAL-URL:https://pacelabdc.org
X-WR-CALDESC:Events for 
REFRESH-INTERVAL;VALUE=DURATION:PT1H
X-Robots-Tag:noindex
X-PUBLISHED-TTL:PT1H
BEGIN:VTIMEZONE
TZID:America/Los_Angeles
BEGIN:DAYLIGHT
TZOFFSETFROM:-0800
TZOFFSETTO:-0700
TZNAME:PDT
DTSTART:20250309T100000
END:DAYLIGHT
BEGIN:STANDARD
TZOFFSETFROM:-0700
TZOFFSETTO:-0800
TZNAME:PST
DTSTART:20251102T090000
END:STANDARD
BEGIN:DAYLIGHT
TZOFFSETFROM:-0800
TZOFFSETTO:-0700
TZNAME:PDT
DTSTART:20260308T100000
END:DAYLIGHT
BEGIN:STANDARD
TZOFFSETFROM:-0700
TZOFFSETTO:-0800
TZNAME:PST
DTSTART:20261101T090000
END:STANDARD
BEGIN:DAYLIGHT
TZOFFSETFROM:-0800
TZOFFSETTO:-0700
TZNAME:PDT
DTSTART:20270314T100000
END:DAYLIGHT
BEGIN:STANDARD
TZOFFSETFROM:-0700
TZOFFSETTO:-0800
TZNAME:PST
DTSTART:20271107T090000
END:STANDARD
END:VTIMEZONE
BEGIN:VEVENT
DTSTART;TZID=America/Los_Angeles:20260424T070000
DTEND;TZID=America/Los_Angeles:20260424T150000
DTSTAMP:20260421T221201
CREATED:20260319T163550Z
LAST-MODIFIED:20260319T163550Z
UID:10001365-1777014000-1777042800@pacelabdc.org
SUMMARY:24th Annual LABC Housing\, Transportation & Jobs Summit
DESCRIPTION:Register Now Panel 1\n  \nAs Los Angeles prepares to host the world at upcoming global sporting events\, the Summit will address accelerating housing supply\, finance\, affordability\, deploying clean transportation infrastructure\, and driving inclusive economic growth through major sports and entertainment events.
URL:https://pacelabdc.org/event/24th-annual-labc-housing-transportation-jobs-summit/
LOCATION:UCLA Meyer and Renee Luskin Conference Center\, 425 Westwood Plaza\, Los Angeles\, 90095\, United States
CATEGORIES:Community Events
END:VEVENT
BEGIN:VEVENT
DTSTART;TZID=America/Los_Angeles:20260424T170000
DTEND;TZID=America/Los_Angeles:20260424T170000
DTSTAMP:20260421T221201
CREATED:20260421T202823Z
LAST-MODIFIED:20260421T214601Z
UID:10001415-1777050000-1777050000@pacelabdc.org
SUMMARY:Project Partners
DESCRIPTION:Bid Date: April 24\, 2026\, at 5:00 PM PT \nBid Project: Requesting qualifications from DBEs to participate as subconsultants in this RFP for Project Management\, Inspection\, and Administrative Services Master Contract for IEUA \nNAICS Codes: 541330\, 541690
URL:https://pacelabdc.org/event/project-partners/
LOCATION:CA
CATEGORIES:Doing Business with Prime Contractors
END:VEVENT
END:VCALENDAR