BEGIN:VCALENDAR
VERSION:2.0
PRODID:-// - ECPv6.15.20//NONSGML v1.0//EN
CALSCALE:GREGORIAN
METHOD:PUBLISH
X-ORIGINAL-URL:https://pacelabdc.org
X-WR-CALDESC:Events for 
REFRESH-INTERVAL;VALUE=DURATION:PT1H
X-Robots-Tag:noindex
X-PUBLISHED-TTL:PT1H
BEGIN:VTIMEZONE
TZID:America/Los_Angeles
BEGIN:DAYLIGHT
TZOFFSETFROM:-0800
TZOFFSETTO:-0700
TZNAME:PDT
DTSTART:20250309T100000
END:DAYLIGHT
BEGIN:STANDARD
TZOFFSETFROM:-0700
TZOFFSETTO:-0800
TZNAME:PST
DTSTART:20251102T090000
END:STANDARD
BEGIN:DAYLIGHT
TZOFFSETFROM:-0800
TZOFFSETTO:-0700
TZNAME:PDT
DTSTART:20260308T100000
END:DAYLIGHT
BEGIN:STANDARD
TZOFFSETFROM:-0700
TZOFFSETTO:-0800
TZNAME:PST
DTSTART:20261101T090000
END:STANDARD
BEGIN:DAYLIGHT
TZOFFSETFROM:-0800
TZOFFSETTO:-0700
TZNAME:PDT
DTSTART:20270314T100000
END:DAYLIGHT
BEGIN:STANDARD
TZOFFSETFROM:-0700
TZOFFSETTO:-0800
TZNAME:PST
DTSTART:20271107T090000
END:STANDARD
END:VTIMEZONE
BEGIN:VEVENT
DTSTART;VALUE=DATE:20260423
DTEND;VALUE=DATE:20260424
DTSTAMP:20260421T221131
CREATED:20260324T223234Z
LAST-MODIFIED:20260324T223249Z
UID:10001375-1776902400-1776988799@pacelabdc.org
SUMMARY:RaPiD Construction\, Inc.
DESCRIPTION:Bid Date: April 23\, 2026 \nBid Project: Pioneer Trail Waterline Project | South Tahoe Public Utility District \nNAICS Codes: 237110\, 237990
URL:https://pacelabdc.org/event/rapid-construction-inc-3/
LOCATION:CA
CATEGORIES:Doing Business with Prime Contractors
END:VEVENT
BEGIN:VEVENT
DTSTART;VALUE=DATE:20260423
DTEND;VALUE=DATE:20260424
DTSTAMP:20260421T221131
CREATED:20260410T223139Z
LAST-MODIFIED:20260410T223139Z
UID:10001401-1776902400-1776988799@pacelabdc.org
SUMMARY:Excel Paving Company
DESCRIPTION:Bid Date: April 23\, 2026 \nBid Project: Orange Avenue Backbone Bikeway Project | City of Long Beach
URL:https://pacelabdc.org/event/excel-paving-company-23/
LOCATION:CA
CATEGORIES:Doing Business with Prime Contractors
END:VEVENT
BEGIN:VEVENT
DTSTART;TZID=America/Los_Angeles:20260423T110000
DTEND;TZID=America/Los_Angeles:20260423T130000
DTSTAMP:20260421T221131
CREATED:20260219T170826Z
LAST-MODIFIED:20260219T193442Z
UID:10001303-1776942000-1776949200@pacelabdc.org
SUMMARY:Digital Marketing for Women-Owned Businesses
DESCRIPTION:This series provides a comprehensive roadmap for creating & executing a strategic marketing plan\, covering audience development\, digital marketing channels\, & business growth strategies. It also includes practical guidance for seasonal campaigns\, re-engagement efforts\, & building a structured 2027 content plan & calendar. \n2/26/2026 | Marketing Plan 101 – Create Your Roadmap to Success: Feeling overwhelmed by marketing options & unsure where to invest your time & money? This workshop helps you focus on strategies that actually work for your business. \n3/26/2026 | Defining Your Audience – The Power of Buyer Personas: What is a Buyer Persona? Is a semi-fictional representation of your ideal customer based on market research & real data about your existing customers. \n4/23/2026 | Social Media Essentials – Picking the Right Platforms for Your Business: This class covers social media basics & trends to help business owners grow their presence. \n5/28/2026 | E-Mail Marketing Essentials: Email marketing delivers strong ROI\, but success depends on targeted campaigns. This workshop covers techniques to help improve your email marketing results. \n6/25/2026 | From Networking to New Business – LinkedIn Essentials: LinkedIn is a key B2B platform for reaching senior decision-makers\, staying on top of industry trends\, & connecting with high-value clients. \n7/23/2026 | The Power of Connections – Leveraging Networking: The Power of Connections provides a practical guide to mastering it across industries. \n8/27/2026 | Blog to Grow – Why Blogging is a Small Business Power Tool: Why blogging remains important\, how it boosts traffic\, SEO\, & trust & how to repurpose posts for social media\, email\, & promotions. \n9/24/2026 | Marketing Strategies to Sleigh the Holiday Season: Learn to create a streamlined holiday marketing plan that saves time\, engages customers\, & maximizes seasonal results. \n10/29/2026 | How to Re-Engage Your Inactive Email Subscribers: Learn strategies to engage inactive email subscribers & encourage them to open\, read & click your emails in \n11/19/2026 | From Ideas to Execution: 2027 Marketing Content Planning + Calendar Walkthrough: Learn an easy method to plan your 2027 marketing & customize the provided content calendar for your business.
URL:https://pacelabdc.org/event/digital-marketing-for-women-owned-businesses-9/2026-04-23/
LOCATION:CA
CATEGORIES:Workshops
END:VEVENT
BEGIN:VEVENT
DTSTART;TZID=America/Los_Angeles:20260423T130000
DTEND;TZID=America/Los_Angeles:20260423T143000
DTSTAMP:20260421T221131
CREATED:20260406T161845Z
LAST-MODIFIED:20260406T161845Z
UID:10001382-1776949200-1776954600@pacelabdc.org
SUMMARY:Crafting Winning Proposals Webinar by LA County Department of Health Services
DESCRIPTION:  \nJoin the Los Angeles County Department of Health Services for a free vendor webinar focused on navigating the solicitation process and strengthening proposal submissions for greater success. To RSVP\, please email DHSVendorConnect@dhs.lacounty.gov.
URL:https://pacelabdc.org/event/crafting-winning-proposals-webinar-by-la-county-department-of-health-services/
LOCATION:CA
CATEGORIES:Community Events
END:VEVENT
BEGIN:VEVENT
DTSTART;TZID=America/Los_Angeles:20260423T133000
DTEND;TZID=America/Los_Angeles:20260423T160000
DTSTAMP:20260421T221131
CREATED:20260417T175019Z
LAST-MODIFIED:20260417T175034Z
UID:10001410-1776951000-1776960000@pacelabdc.org
SUMMARY:Unlock Your Business’s Digital Potential
DESCRIPTION:
URL:https://pacelabdc.org/event/unlock-your-businesss-digital-potential-2/
LOCATION:Altadena Community Center\, 730 E. Altadena Dr.\, Altadena\, CA\, 91001\, United States
CATEGORIES:Community Events
END:VEVENT
BEGIN:VEVENT
DTSTART;TZID=America/Los_Angeles:20260423T140000
DTEND;TZID=America/Los_Angeles:20260423T140000
DTSTAMP:20260421T221131
CREATED:20260407T194957Z
LAST-MODIFIED:20260407T194957Z
UID:10001395-1776952800-1776952800@pacelabdc.org
SUMMARY:Shimmick Construction Company\, Inc.
DESCRIPTION:Bid Date: April 23\, 2026\, at 2:00 PM PT *Bids should be received no later than 12:00 PM on April 22\, 2026 \nBid Project: THE METROPOLITAN WATER DISTRICT OF SOUTHERN CALIFORNIA HOLLYWOOD TUNNEL NORTH PORTAL PRESSURE CONTROL STRUCTURE VALVE REPLACEMENT – SPECIFICATIONS NUMBER 2039
URL:https://pacelabdc.org/event/shimmick-construction-company-inc-5/
LOCATION:CA
CATEGORIES:Doing Business with Prime Contractors
END:VEVENT
END:VCALENDAR